Workbook

Sheet Paper #1 Rubric
B2: Criteria | C2: N/A | D2: Poor | E2: Fair | F2: Good | H2: Notes
B3: Self-Evaluation Instructions: Assess your own paper according to the following instructions. If you believe that your paper offers a "Good" response to the criterion in question, put the letter X under the "Good" column in the corresponding row. If you believe that your paper offers a "Fair" response to the criterion in question, put the letter X under the "Fair" column in the corresponding row. If you believe that your paper offers a "Poor" response to the criterion in question, put the letter X under the "Poor" column in the corresponding row. If your paper does NOT respond to the criterion in question, put the letter X under the "N/A" column. When you have completed the entire prompt, you will see your grade at the bottom of the page.
B4: Introduction
B5: Paper has a title that addresses / summarizes the arguments and themes of paper as a whole.
C6: ='CALCULATION SHEET'!C6 -> 0 pts. | D6: ='CALCULATION SHEET'!D6 -> 1 pt. | E6: ='CALCULATION SHEET'!E6 -> 2.5 pts. | F6: ='CALCULATION SHEET'!F6 -> 3 pts.
B7: Introductory paragraph contains a thesis (N.B. Your thesis need not be a single sentence. Rather, this criterion assesses the overall strength of your responses to the three points of the prompt.)
C8: ='CALCULATION SHEET'!C8 -> 0 pts. | D8: ='CALCULATION SHEET'!D8 -> 4.5 pts. | E8: ='CALCULATION SHEET'!E8 -> 5.25 pts. | F8: ='CALCULATION SHEET'!F8 -> 6 pts.
B9: Thesis addresses Point 1 of prompt.
C10: ='CALCULATION SHEET'!C10 -> 0 pts. | D10: ='CALCULATION SHEET'!D10 -> 3.25 pts. | E10: ='CALCULATION SHEET'!E10 -> 3.75 pts. | F10: ='CALCULATION SHEET'!F10 -> 4 pts.
B11: Thesis addresses Point 2 of prompt.
C12: ='CALCULATION SHEET'!C12 -> 0 pts. | D12: ='CALCULATION SHEET'!D12 -> 3.25 pts. | E12: ='CALCULATION SHEET'!E12 -> 3.75 pts. | F12: ='CALCULATION SHEET'!F12 -> 4 pts.
B13: Thesis addresses Point 3 of prompt.
C14: ='CALCULATION SHEET'!C14 -> 0 pts. | D14: ='CALCULATION SHEET'!D14 -> 3.25 pts. | E14: ='CALCULATION SHEET'!E14 -> 3.75 pts. | F14: ='CALCULATION SHEET'!F14 -> 4 pts.
B16: Response to Point 1
B17: Section responding to Point 1 offers a brief historical definition of your topic and identifies 4-5 major events, developments, or ideas associated with your topic.
C18: ='CALCULATION SHEET'!C18 -> 0 pts. | D18: ='CALCULATION SHEET'!D18 -> 4.5 pts. | E18: ='CALCULATION SHEET'!E18 -> 5.25 pts. | F18: ='CALCULATION SHEET'!F18 -> 6 pts.
B19: Section offers a more detailed historical definition of your topic.
C20: ='CALCULATION SHEET'!C20 -> 0 pts. | D20: ='CALCULATION SHEET'!D20 -> 4 pts. | E20: ='CALCULATION SHEET'!E20 -> 4.5 pts. | F20: ='CALCULATION SHEET'!F20 -> 5 pts.
B21: Section offers a more detailed description of 4-5 major events, developments, or ideas associated with your topic.
C22: ='CALCULATION SHEET'!C22 -> 0 pts. | D22: ='CALCULATION SHEET'!D22 -> 4 pts. | E22: ='CALCULATION SHEET'!E22 -> 4.5 pts. | F22: ='CALCULATION SHEET'!F22 -> 5 pts.
B23: Section includes meaningful references to course and/or outside materials.
C24: ='CALCULATION SHEET'!C24 -> 0 pts. | D24: ='CALCULATION SHEET'!D24 -> 3.25 pts. | E24: ='CALCULATION SHEET'!E24 -> 3.75 pts. | F24: ='CALCULATION SHEET'!F24 -> 4 pts.
B26: Response to Point 2
B27: Section responding to Point 2 begins with an effective summary of two or more reasons why your topic played a more important role in shaping American history between 1492 and 1877 than any other.
C28: ='CALCULATION SHEET'!C28 -> 0 pts. | D28: ='CALCULATION SHEET'!D28 -> 4.5 pts. | E28: ='CALCULATION SHEET'!E28 -> 5.25 pts. | F28: ='CALCULATION SHEET'!F28 -> 6 pts.
B29: Section describes (in greater detail) the first major reason why your topic played a more important role in shaping American history between 1492 and 1877 than any other.
C30: ='CALCULATION SHEET'!C30 -> 0 pts. | D30: ='CALCULATION SHEET'!D30 -> 4 pts. | E30: ='CALCULATION SHEET'!E30 -> 4.5 pts. | F30: ='CALCULATION SHEET'!F30 -> 5 pts.
B31: Section describes (in greater detail) the second major reason why your topic played a more important role in shaping American history between 1492 and 1877 than any other.
C32: ='CALCULATION SHEET'!C32 -> 0 pts. | D32: ='CALCULATION SHEET'!D32 -> 4 pts. | E32: ='CALCULATION SHEET'!E32 -> 4.5 pts. | F32: ='CALCULATION SHEET'!F32 -> 5 pts.
B33: Section includes meaningful references to course and/or outside materials.
C34: ='CALCULATION SHEET'!C34 -> 0 pts. | D34: ='CALCULATION SHEET'!D34 -> 3.25 pts. | E34: ='CALCULATION SHEET'!E34 -> 3.75 pts. | F34: ='CALCULATION SHEET'!F34 -> 4 pts.
B36: Response to Point 3
B37: Section responding to Point 3 begins with an effective summary of two or more ways in which your topic continues to influence the present.
C38: ='CALCULATION SHEET'!C38 -> 0 pts. | D38: ='CALCULATION SHEET'!D38 -> 4.5 pts. | E38: ='CALCULATION SHEET'!E38 -> 5.25 pts. | F38: ='CALCULATION SHEET'!F38 -> 6 pts.
B39: Section describes (in greater detail) the first major way in which your topic continues to influence the present.
C40: ='CALCULATION SHEET'!C40 -> 0 pts. | D40: ='CALCULATION SHEET'!D40 -> 4 pts. | E40: ='CALCULATION SHEET'!E40 -> 4.5 pts. | F40: ='CALCULATION SHEET'!F40 -> 5 pts.
B41: Section describes (in greater detail) the second major way in which your topic continues to influence the present.
C42: ='CALCULATION SHEET'!C42 -> 0 pts. | D42: ='CALCULATION SHEET'!D42 -> 4 pts. | E42: ='CALCULATION SHEET'!E42 -> 4.5 pts. | F42: ='CALCULATION SHEET'!F42 -> 5 pts.
B43: Section includes meaningful references to course and/or outside materials.
C44: ='CALCULATION SHEET'!C44 -> 0 pts. | D44: ='CALCULATION SHEET'!D44 -> 3.25 pts. | E44: ='CALCULATION SHEET'!E44 -> 3.75 pts. | F44: ='CALCULATION SHEET'!F44 -> 4 pts.
B46: Other Criteria
B47: Paper is effectively organized.
C48: ='CALCULATION SHEET'!C48 -> 0 pts. | D48: ='CALCULATION SHEET'!D48 -> 3.75 pts. | E48: ='CALCULATION SHEET'!E48 -> 6 pts. | F48: ='CALCULATION SHEET'!F48 -> 7 pts.
B49: Paper is well-written and shows evidence of careful proofreading.
C50: ='CALCULATION SHEET'!C50 -> 0 pts. | D50: ='CALCULATION SHEET'!D50 -> 3.75 pts. | E50: ='CALCULATION SHEET'!E50 -> 6 pts. | F50: ='CALCULATION SHEET'!F50 -> 7 pts.
B52: Other Available Points
B53: Freebie points (up to 25)
B55: GRADE | C55: =IF('CALCULATION SHEET'!C55:F55>100,100,'CALCULATION SHEET'!C55:F55) -> 0 | H55: (out of 100)

Sheet CALCULATION SHEET
B3: Criteria | C3: N/A | D3: Poor | E3: Fair | F3: Good
B4: Introduction
B5: Paper has a title that addresses / summarizes the arguments and themes of paper as a whole. | C5: =IF('Paper #1 Rubric'!C5="X",0,0) -> 0 | D5: =IF('Paper #1 Rubric'!D5="X",1,0) -> 0 | E5: =IF('Paper #1 Rubric'!E5="X",2.5,0) -> 0 | F5: =IF('Paper #1 Rubric'!F5="X",3,0) -> 0 | G5: =MAX(C5:F5) -> 0
C6: 0 pts. | D6: 1 pt. | E6: 2.5 pts. | F6: 3 pts.
B7: Introductory paragraph contains a thesis (N.B. Your thesis need not be a single sentence. Rather, this criterion assesses the overall strength of your responses to the three points of the prompt.) | C7: =IF('Paper #1 Rubric'!C7="X",0,0) -> 0 | D7: =IF('Paper #1 Rubric'!D7="X",4.5,0) -> 0 | E7: =IF('Paper #1 Rubric'!E7="X",5.25,0) -> 0 | F7: =IF('Paper #1 Rubric'!F7="X",6,0) -> 0 | G7: =MAX(C7:F7) -> 0
C8: 0 pts. | D8: 4.5 pts. | E8: 5.25 pts. | F8: 6 pts.
B9: Thesis addresses Point 1 of prompt. | C9: =IF('Paper #1 Rubric'!C9="X",0,0) -> 0 | D9: =IF('Paper #1 Rubric'!D9="X",3.25,0) -> 0 | E9: =IF('Paper #1 Rubric'!E9="X",3.75,0) -> 0 | F9: =IF('Paper #1 Rubric'!F9="X",4,0) -> 0 | G9: =MAX(C9:F9) -> 0
C10: 0 pts. | D10: 3.25 pts. | E10: 3.75 pts. | F10: 4 pts.
B11: Thesis addresses Point 2 of prompt. | C11: =IF('Paper #1 Rubric'!C11="X",0,0) -> 0 | D11: =IF('Paper #1 Rubric'!D11="X",3.25,0) -> 0 | E11: =IF('Paper #1 Rubric'!E11="X",3.75,0) -> 0 | F11: =IF('Paper #1 Rubric'!F11="X",4,0) -> 0 | G11: =MAX(C11:F11) -> 0
C12: 0 pts. | D12: 3.25 pts. | E12: 3.75 pts. | F12: 4 pts.
B13: Thesis addresses Point 3 of prompt. | C13: =IF('Paper #1 Rubric'!C13="X",0,0) -> 0 | D13: =IF('Paper #1 Rubric'!D13="X",3.25,0) -> 0 | E13: =IF('Paper #1 Rubric'!E13="X",3.75,0) -> 0 | F13: =IF('Paper #1 Rubric'!F13="X",4,0) -> 0 | G13: =MAX(C13:F13) -> 0
C14: 0 pts. | D14: 3.25 pts. | E14: 3.75 pts. | F14: 4 pts.
B16: Response to Point 1
B17: Section responding to Point 1 begins by briefly summarizing the meaning, significance, and historical trajectory of the trends you have chosen to discuss. | C17: =IF('Paper #1 Rubric'!C17="X",0,0) -> 0 | D17: =IF('Paper #1 Rubric'!D17="X",4.5,0) -> 0 | E17: =IF('Paper #1 Rubric'!E17="X",5.25,0) -> 0 | F17: =IF('Paper #1 Rubric'!F17="X",6,0) -> 0 | G17: =MAX(C17:F17) -> 0
C18: 0 pts. | D18: 4.5 pts. | E18: 5.25 pts. | F18: 6 pts.
B19: Section describes the meaning, significance, and historical trajectory of the first trend you have chosen to discuss in greater detail. | C19: =IF('Paper #1 Rubric'!C19="X",0,0) -> 0 | D19: =IF('Paper #1 Rubric'!D19="X",4,0) -> 0 | E19: =IF('Paper #1 Rubric'!E19="X",4.5,0) -> 0 | F19: =IF('Paper #1 Rubric'!F19="X",5,0) -> 0 | G19: =MAX(C19:F19) -> 0
C20: 0 pts. | D20: 4 pts. | E20: 4.5 pts. | F20: 5 pts.
B21: Section describes the meaning, significance, and historical trajectory of the second trend you have chosen to discuss in greater detail. | C21: =IF('Paper #1 Rubric'!C21="X",0,0) -> 0 | D21: =IF('Paper #1 Rubric'!D21="X",4,0) -> 0 | E21: =IF('Paper #1 Rubric'!E21="X",4.5,0) -> 0 | F21: =IF('Paper #1 Rubric'!F21="X",5,0) -> 0 | G21: =MAX(C21:F21) -> 0
C22: 0 pts. | D22: 4 pts. | E22: 4.5 pts. | F22: 5 pts.
B23: Section includes meaningful references to course and/or outside materials. | C23: =IF('Paper #1 Rubric'!C23="X",0,0) -> 0 | D23: =IF('Paper #1 Rubric'!D23="X",3.25,0) -> 0 | E23: =IF('Paper #1 Rubric'!E23="X",3.75,0) -> 0 | F23: =IF('Paper #1 Rubric'!F23="X",4,0) -> 0 | G23: =MAX(C23:F23) -> 0
C24: 0 pts. | D24: 3.25 pts. | E24: 3.75 pts. | F24: 4 pts.
B26: Response to Point 2
B27: Section responding to Point 2 begins with an effective summary of two or more reasons why the trends you have chosen to discuss are more important than those you have chosen to omit. | C27: =IF('Paper #1 Rubric'!C27="X",0,0) -> 0 | D27: =IF('Paper #1 Rubric'!D27="X",4.5,0) -> 0 | E27: =IF('Paper #1 Rubric'!E27="X",5.25,0) -> 0 | F27: =IF('Paper #1 Rubric'!F27="X",6,0) -> 0 | G27: =MAX(C27:F27) -> 0
C28: 0 pts. | D28: 4.5 pts. | E28: 5.25 pts. | F28: 6 pts.
B29: Section describes (in greater detail) the first major reason why the trends you have chosen to discuss are more important than those you have chosen to omit. | C29: =IF('Paper #1 Rubric'!C29="X",0,0) -> 0 | D29: =IF('Paper #1 Rubric'!D29="X",4,0) -> 0 | E29: =IF('Paper #1 Rubric'!E29="X",4.5,0) -> 0 | F29: =IF('Paper #1 Rubric'!F29="X",5,0) -> 0 | G29: =MAX(C29:F29) -> 0
C30: 0 pts. | D30: 4 pts. | E30: 4.5 pts. | F30: 5 pts.
B31: Section describes (in greater detail) the second major reason why the trends you have chosen to discuss are more important than those you have chosen to omit. | C31: =IF('Paper #1 Rubric'!C31="X",0,0) -> 0 | D31: =IF('Paper #1 Rubric'!D31="X",4,0) -> 0 | E31: =IF('Paper #1 Rubric'!E31="X",4.5,0) -> 0 | F31: =IF('Paper #1 Rubric'!F31="X",5,0) -> 0 | G31: =MAX(C31:F31) -> 0
C32: 0 pts. | D32: 4 pts. | E32: 4.5 pts. | F32: 5 pts.
B33: Section includes meaningful references to course and/or outside materials. | C33: =IF('Paper #1 Rubric'!C33="X",0,0) -> 0 | D33: =IF('Paper #1 Rubric'!D33="X",3.25,0) -> 0 | E33: =IF('Paper #1 Rubric'!E33="X",3.75,0) -> 0 | F33: =IF('Paper #1 Rubric'!F33="X",4,0) -> 0 | G33: =MAX(C33:F33) -> 0
C34: 0 pts. | D34: 3.25 pts. | E34: 3.75 pts. | F34: 4 pts.
B36: Response to Point 3
B37: Section responding to Point 3 begins with an effective summary of two or more ways in which the trends you have chosen to discuss continue to influence the present. | C37: =IF('Paper #1 Rubric'!C37="X",0,0) -> 0 | D37: =IF('Paper #1 Rubric'!D37="X",4.5,0) -> 0 | E37: =IF('Paper #1 Rubric'!E37="X",5.25,0) -> 0 | F37: =IF('Paper #1 Rubric'!F37="X",6,0) -> 0 | G37: =MAX(C37:F37) -> 0
C38: 0 pts. | D38: 4.5 pts. | E38: 5.25 pts. | F38: 6 pts.
B39: Section describes (in greater detail) the first major way in which the trends you have chosen to discuss continue to influence the present. | C39: =IF('Paper #1 Rubric'!C39="X",0,0) -> 0 | D39: =IF('Paper #1 Rubric'!D39="X",4,0) -> 0 | E39: =IF('Paper #1 Rubric'!E39="X",4.5,0) -> 0 | F39: =IF('Paper #1 Rubric'!F39="X",5,0) -> 0 | G39: =MAX(C39:F39) -> 0
C40: 0 pts. | D40: 4 pts. | E40: 4.5 pts. | F40: 5 pts.
B41: Section describes (in greater detail) the second major way in which the trends you have chosen to discuss continue to influence the present. | C41: =IF('Paper #1 Rubric'!C41="X",0,0) -> 0 | D41: =IF('Paper #1 Rubric'!D41="X",4,0) -> 0 | E41: =IF('Paper #1 Rubric'!E41="X",4.5,0) -> 0 | F41: =IF('Paper #1 Rubric'!F41="X",5,0) -> 0 | G41: =MAX(C41:F41) -> 0
C42: 0 pts. | D42: 4 pts. | E42: 4.5 pts. | F42: 5 pts.
B43: Section includes meaningful references to course and/or outside materials. | C43: =IF('Paper #1 Rubric'!C43="X",0,0) -> 0 | D43: =IF('Paper #1 Rubric'!D43="X",3.25,0) -> 0 | E43: =IF('Paper #1 Rubric'!E43="X",3.75,0) -> 0 | F43: =IF('Paper #1 Rubric'!F43="X",4,0) -> 0 | G43: =MAX(C43:F43) -> 0
C44: 0 pts. | D44: 3.25 pts. | E44: 3.75 pts. | F44: 4 pts.
B46: Other Criteria
B47: Paper is effectively organized. | C47: =IF('Paper #1 Rubric'!C47="X",0,0) -> 0 | D47: =IF('Paper #1 Rubric'!D47="X",3.75,0) -> 0 | E47: =IF('Paper #1 Rubric'!E47="X",6,0) -> 0 | F47: =IF('Paper #1 Rubric'!F47="X",7,0) -> 0 | G47: =MAX(C47:F47) -> 0
C48: 0 pts. | D48: 3.75 pts. | E48: 6 pts. | F48: 7 pts.
B49: Paper is well-written and shows evidence of careful proofreading. | C49: =IF('Paper #1 Rubric'!C49="X",0,0) -> 0 | D49: =IF('Paper #1 Rubric'!D49="X",3.75,0) -> 0 | E49: =IF('Paper #1 Rubric'!E49="X",6,0) -> 0 | F49: =IF('Paper #1 Rubric'!F49="X",7,0) -> 0 | G49: =MAX(C49:F49) -> 0
C50: 0 pts. | D50: 3.75 pts. | E50: 6 pts. | F50: 7 pts.
B52: Other Available Points
B53: Freebie points (up to 25) | C53: ='Paper #1 Rubric'!C53:F53 -> 0 | G53: =C53 -> 0
B55: GRADE | C55: =SUM(G5,G7,G9,G11,G13,G17,G19,G21,G23,G27,G29,G31,G33,G37,G39,G41,G43,G47,G49,G53) -> 0
